BEGIN:VCALENDAR
VERSION:2.0
PRODID:icalendar-ruby
CALSCALE:GREGORIAN
METHOD:PUBLISH
BEGIN:VEVENT
DTSTAMP:20260424T135621Z
UID:597-4159@redemptionhillnm.org
DTSTART:20260427T003000Z
DTEND:20260427T020000Z
CLASS:PUBLIC
CREATED:20260423T095130
DESCRIPTION:\nCome join us at 6:30PM on Sunday\, April 26th\, for our month
 ly prayer meeting.  It is a blessed time of communion with the Lord and e
 ach other as we lift up the needs of the church and our community.  We st
 art with worship led by our Young Adults Ministry\, and then break into sm
 all groups for prayer.  \n
LAST-MODIFIED:20260423T095130
LOCATION:Redemption Hill Church | 9674 Eagle Ranch Rd NW\, Albuquerque\, NM
  87114
SUMMARY:Monthly Prayer Night
URL;VALUE=URI:https://www.redemptionhillnm.org/events/monthly-prayer-night-
 -597/2026-04-26
ATTACH;FILENAME=Prayer-Night-5.jpg;FMTTYPE=image/jpeg:https://dq5pwpg1q8ru0
 .cloudfront.net/2026/04/23/15/51/30/f5958c56-3c5c-4e5d-a306-bbcefce82b19/P
 rayer-Night-5.jpg
END:VEVENT
END:VCALENDAR
